BEGIN:VCALENDAR
VERSION:2.0
PRODID:-//NetAuktion//NONSGML NetAuktion//SV
METHOD:PUBLISH
BEGIN:VEVENT
UID:20260425T122750-2033826009-netauktion.se
DTSTAMP:20260425T122750
DTSTART:20160719T024400
DTEND:20160719T024700
SUMMARY:Netauktion objekt 2641-032 Auktionspåminnelse
DESCRIPTION:Länk till objektet du var intresserad av: https://staging.netauktion.se/auktion/produkt/mc-stovlar-suezia-racing-strl-43-10-2
END:VEVENT
END:VCALENDAR
