BEGIN:VCALENDAR
VERSION:2.0
PRODID:-//NetAuktion//NONSGML NetAuktion//SV
METHOD:PUBLISH
BEGIN:VEVENT
UID:20260425T123104-706826781-netauktion.se
DTSTAMP:20260425T123104
DTSTART:20160719T021000
DTEND:20160719T021300
SUMMARY:Netauktion objekt 2641-033 Auktionspåminnelse
DESCRIPTION:Länk till objektet du var intresserad av: https://staging.netauktion.se/auktion/produkt/mc-stovlar-suezia-racing-strl-43-12
END:VEVENT
END:VCALENDAR
