BEGIN:VCALENDAR
VERSION:2.0
PRODID:-//NetAuktion//NONSGML NetAuktion//SV
METHOD:PUBLISH
BEGIN:VEVENT
UID:20260425T122825-212247803-netauktion.se
DTSTAMP:20260425T122825
DTSTART:20160719T020700
DTEND:20160719T021000
SUMMARY:Netauktion objekt 2641-051 Auktionspåminnelse
DESCRIPTION:Länk till objektet du var intresserad av: https://staging.netauktion.se/auktion/produkt/mc-stovlar-suezia-racing-strl-44-8
END:VEVENT
END:VCALENDAR
