BEGIN:VCALENDAR
VERSION:2.0
PRODID:-//NetAuktion//NONSGML NetAuktion//SV
METHOD:PUBLISH
BEGIN:VEVENT
UID:20260425T123611-1370757823-netauktion.se
DTSTAMP:20260425T123611
DTSTART:20160719T022200
DTEND:20160719T022500
SUMMARY:Netauktion objekt 2641-052 Auktionspåminnelse
DESCRIPTION:Länk till objektet du var intresserad av: https://staging.netauktion.se/auktion/produkt/mc-stovlar-suezia-racing-strl-44-8-2
END:VEVENT
END:VCALENDAR
