BEGIN:VCALENDAR
VERSION:2.0
PRODID:-//NetAuktion//NONSGML NetAuktion//SV
METHOD:PUBLISH
BEGIN:VEVENT
UID:20260425T123120-1336991809-netauktion.se
DTSTAMP:20260425T123120
DTSTART:20160719T023800
DTEND:20160719T024100
SUMMARY:Netauktion objekt 2641-053 Auktionspåminnelse
DESCRIPTION:Länk till objektet du var intresserad av: https://staging.netauktion.se/auktion/produkt/mc-stovlar-suezia-racing-strl-44-8-3
END:VEVENT
END:VCALENDAR
