BEGIN:VCALENDAR
VERSION:2.0
PRODID:-//NetAuktion//NONSGML NetAuktion//SV
METHOD:PUBLISH
BEGIN:VEVENT
UID:20260425T122631-1743412017-netauktion.se
DTSTAMP:20260425T122631
DTSTART:20160719T021900
DTEND:20160719T022200
SUMMARY:Netauktion objekt 2641-063 Auktionspåminnelse
DESCRIPTION:Länk till objektet du var intresserad av: https://staging.netauktion.se/auktion/produkt/mc-stovlar-suezia-racing-strl-45-3-2
END:VEVENT
END:VCALENDAR
