BEGIN:VCALENDAR
VERSION:2.0
PRODID:-//NetAuktion//NONSGML NetAuktion//SV
METHOD:PUBLISH
BEGIN:VEVENT
UID:20260425T123611-217181976-netauktion.se
DTSTAMP:20260425T123611
DTSTART:20160719T020100
DTEND:20160719T020400
SUMMARY:Netauktion objekt 2641-065 Auktionspåminnelse
DESCRIPTION:Länk till objektet du var intresserad av: https://staging.netauktion.se/auktion/produkt/mc-stovlar-suezia-racing-strl-46-3
END:VEVENT
END:VCALENDAR
