BEGIN:VCALENDAR
VERSION:2.0
PRODID:-//NetAuktion//NONSGML NetAuktion//SV
METHOD:PUBLISH
BEGIN:VEVENT
UID:20260425T134725-1177184737-netauktion.se
DTSTAMP:20260425T134725
DTSTART:20160719T022300
DTEND:20160719T022600
SUMMARY:Netauktion objekt 2641-084 Auktionspåminnelse
DESCRIPTION:Länk till objektet du var intresserad av: https://staging.netauktion.se/auktion/produkt/jacka-suezia-strl-xl-3
END:VEVENT
END:VCALENDAR
