BEGIN:VCALENDAR
VERSION:2.0
PRODID:-//NetAuktion//NONSGML NetAuktion//SV
METHOD:PUBLISH
BEGIN:VEVENT
UID:20260425T123611-2067833014-netauktion.se
DTSTAMP:20260425T123611
DTSTART:20160719T023900
DTEND:20160719T024200
SUMMARY:Netauktion objekt 2641-088 Auktionspåminnelse
DESCRIPTION:Länk till objektet du var intresserad av: https://staging.netauktion.se/auktion/produkt/jacka-revite-strl-m-2
END:VEVENT
END:VCALENDAR
