BEGIN:VCALENDAR
VERSION:2.0
PRODID:-//NetAuktion//NONSGML NetAuktion//SV
METHOD:PUBLISH
BEGIN:VEVENT
UID:20260421T104532-2031687783-netauktion.se
DTSTAMP:20260421T104532
DTSTART:20160629T021700
DTEND:20160629T022000
SUMMARY:Netauktion objekt 2551-023 Auktionspåminnelse
DESCRIPTION:Länk till objektet du var intresserad av: https://staging.netauktion.se/auktion/produkt/tavla-i-fem-delar-color-explosion-3
END:VEVENT
END:VCALENDAR
