BEGIN:VCALENDAR
VERSION:2.0
PRODID:-//NetAuktion//NONSGML NetAuktion//SV
METHOD:PUBLISH
BEGIN:VEVENT
UID:20260421T104443-866302149-netauktion.se
DTSTAMP:20260421T104443
DTSTART:20090831T031500
DTEND:20090831T031800
SUMMARY:Netauktion objekt 0241-198 Auktionspåminnelse
DESCRIPTION:Länk till objektet du var intresserad av: https://staging.netauktion.se/auktion/produkt/nya-mysbyxor-strl-mxl-varde-7900-kr-5
END:VEVENT
END:VCALENDAR
