BEGIN:VCALENDAR
VERSION:2.0
PRODID:-//NetAuktion//NONSGML NetAuktion//SV
METHOD:PUBLISH
BEGIN:VEVENT
UID:20260421T104358-1179437517-netauktion.se
DTSTAMP:20260421T104358
DTSTART:20090831T031800
DTEND:20090831T032100
SUMMARY:Netauktion objekt 0241-199 Auktionspåminnelse
DESCRIPTION:Länk till objektet du var intresserad av: https://staging.netauktion.se/auktion/produkt/nya-mysbyxor-strl-m-xl-varde-7900-kr
END:VEVENT
END:VCALENDAR
