BEGIN:VCALENDAR
VERSION:2.0
PRODID:-//NetAuktion//NONSGML NetAuktion//SV
METHOD:PUBLISH
BEGIN:VEVENT
UID:20260421T104355-1136536449-netauktion.se
DTSTAMP:20260421T104355
DTSTART:20090831T031900
DTEND:20090831T032200
SUMMARY:Netauktion objekt 0241-200 Auktionspåminnelse
DESCRIPTION:Länk till objektet du var intresserad av: https://staging.netauktion.se/auktion/produkt/nya-trojor-samt-klanningar-mm-varde-9200-kr
END:VEVENT
END:VCALENDAR
