BEGIN:VCALENDAR
VERSION:2.0
PRODID:-//NetAuktion//NONSGML NetAuktion//SV
METHOD:PUBLISH
BEGIN:VEVENT
UID:20260421T104431-1297394337-netauktion.se
DTSTAMP:20260421T104431
DTSTART:20090831T032100
DTEND:20090831T032400
SUMMARY:Netauktion objekt 0241-201 Auktionspåminnelse
DESCRIPTION:Länk till objektet du var intresserad av: https://staging.netauktion.se/auktion/produkt/nya-toppar-strl-s-xl-varde-6300-kr
END:VEVENT
END:VCALENDAR
