BEGIN:VCALENDAR
VERSION:2.0
PRODID:-//NetAuktion//NONSGML NetAuktion//SV
METHOD:PUBLISH
BEGIN:VEVENT
UID:20260421T104321-1451907375-netauktion.se
DTSTAMP:20260421T104321
DTSTART:20090831T032700
DTEND:20090831T033000
SUMMARY:Netauktion objekt 0241-204 Auktionspåminnelse
DESCRIPTION:Länk till objektet du var intresserad av: https://staging.netauktion.se/auktion/produkt/nya-toppar-strl-s-xl-varde-3600-kr
END:VEVENT
END:VCALENDAR
