BEGIN:VCALENDAR
VERSION:2.0
PRODID:-//NetAuktion//NONSGML NetAuktion//SV
METHOD:PUBLISH
BEGIN:VEVENT
UID:20260421T104531-106604277-netauktion.se
DTSTAMP:20260421T104531
DTSTART:20160721T014300
DTEND:20160721T014600
SUMMARY:Netauktion objekt 2592-004 Auktionspåminnelse
DESCRIPTION:Länk till objektet du var intresserad av: https://staging.netauktion.se/auktion/produkt/2st-akvarium-fiskmat-mm
END:VEVENT
END:VCALENDAR
