BEGIN:VCALENDAR
VERSION:2.0
PRODID:-//NetAuktion//NONSGML NetAuktion//SV
METHOD:PUBLISH
BEGIN:VEVENT
UID:20260421T104355-385192549-netauktion.se
DTSTAMP:20260421T104355
DTSTART:20090831T033300
DTEND:20090831T033600
SUMMARY:Netauktion objekt 0241-207 Auktionspåminnelse
DESCRIPTION:Länk till objektet du var intresserad av: https://staging.netauktion.se/auktion/produkt/nya-toppar-strl-m-varde-7300-kr
END:VEVENT
END:VCALENDAR
