BEGIN:VCALENDAR
VERSION:2.0
PRODID:-//NetAuktion//NONSGML NetAuktion//SV
METHOD:PUBLISH
BEGIN:VEVENT
UID:20260421T102746-1583075848-netauktion.se
DTSTAMP:20260421T102746
DTSTART:20090831T033500
DTEND:20090831T033800
SUMMARY:Netauktion objekt 0241-208 Auktionspåminnelse
DESCRIPTION:Länk till objektet du var intresserad av: https://staging.netauktion.se/auktion/produkt/nya-toppar-strl-s-varde-3500-kr
END:VEVENT
END:VCALENDAR
