BEGIN:VCALENDAR
VERSION:2.0
PRODID:-//NetAuktion//NONSGML NetAuktion//SV
METHOD:PUBLISH
BEGIN:VEVENT
UID:20260425T134725-1732284148-netauktion.se
DTSTAMP:20260425T134725
DTSTART:20160720T011600
DTEND:20160720T011900
SUMMARY:Netauktion objekt 2651-003 Auktionspåminnelse
DESCRIPTION:Länk till objektet du var intresserad av: https://staging.netauktion.se/auktion/produkt/playstation-1-psone-kontroller-spel
END:VEVENT
END:VCALENDAR
