BEGIN:VCALENDAR
VERSION:2.0
PRODID:-//NetAuktion//NONSGML NetAuktion//SV
METHOD:PUBLISH
BEGIN:VEVENT
UID:20260425T134725-705725654-netauktion.se
DTSTAMP:20260425T134725
DTSTART:20160720T011400
DTEND:20160720T011700
SUMMARY:Netauktion objekt 2651-008 Auktionspåminnelse
DESCRIPTION:Länk till objektet du var intresserad av: https://staging.netauktion.se/auktion/produkt/playstation-1-kontroller-spel-4
END:VEVENT
END:VCALENDAR
