BEGIN:VCALENDAR
VERSION:2.0
PRODID:-//NetAuktion//NONSGML NetAuktion//SV
METHOD:PUBLISH
BEGIN:VEVENT
UID:20260425T134700-1634790082-netauktion.se
DTSTAMP:20260425T134700
DTSTART:20160720T010100
DTEND:20160720T010400
SUMMARY:Netauktion objekt 2651-011 Auktionspåminnelse
DESCRIPTION:Länk till objektet du var intresserad av: https://staging.netauktion.se/auktion/produkt/ps1-ps2-nintendo-64-spelkonsoler
END:VEVENT
END:VCALENDAR
