BEGIN:VCALENDAR
VERSION:2.0
PRODID:-//NetAuktion//NONSGML NetAuktion//SV
METHOD:PUBLISH
BEGIN:VEVENT
UID:20260425T122825-1262330128-netauktion.se
DTSTAMP:20260425T122825
DTSTART:20160719T014100
DTEND:20160719T014400
SUMMARY:Netauktion objekt 2608-068 Auktionspåminnelse
DESCRIPTION:Länk till objektet du var intresserad av: https://staging.netauktion.se/auktion/produkt/frisorartiklar-harprodukter
END:VEVENT
END:VCALENDAR
