BEGIN:VCALENDAR
VERSION:2.0
PRODID:-//NetAuktion//NONSGML NetAuktion//SV
METHOD:PUBLISH
BEGIN:VEVENT
UID:20260425T134700-2055129714-netauktion.se
DTSTAMP:20260425T134700
DTSTART:20160719T014100
DTEND:20160719T014400
SUMMARY:Netauktion objekt 2608-069 Auktionspåminnelse
DESCRIPTION:Länk till objektet du var intresserad av: https://staging.netauktion.se/auktion/produkt/harvardsprodukter-2
END:VEVENT
END:VCALENDAR
