BEGIN:VCALENDAR
VERSION:2.0
PRODID:-//NetAuktion//NONSGML NetAuktion//SV
METHOD:PUBLISH
BEGIN:VEVENT
UID:20260421T104352-414319077-netauktion.se
DTSTAMP:20260421T104352
DTSTART:20160728T012500
DTEND:20160728T012800
SUMMARY:Netauktion objekt 2693-007 Auktionspåminnelse
DESCRIPTION:Länk till objektet du var intresserad av: https://staging.netauktion.se/auktion/produkt/borrmaskin-hitachi
END:VEVENT
END:VCALENDAR
