BEGIN:VCALENDAR
VERSION:2.0
PRODID:-//NetAuktion//NONSGML NetAuktion//SV
METHOD:PUBLISH
BEGIN:VEVENT
UID:20260421T104606-1873513820-netauktion.se
DTSTAMP:20260421T104606
DTSTART:20160726T014200
DTEND:20160726T014500
SUMMARY:Netauktion objekt 2595-033 Auktionspåminnelse
DESCRIPTION:Länk till objektet du var intresserad av: https://staging.netauktion.se/auktion/produkt/topplanternor-faste-4
END:VEVENT
END:VCALENDAR
