BEGIN:VCALENDAR
VERSION:2.0
PRODID:-//NetAuktion//NONSGML NetAuktion//SV
METHOD:PUBLISH
BEGIN:VEVENT
UID:20260421T104428-1633108799-netauktion.se
DTSTAMP:20260421T104428
DTSTART:20160728T014600
DTEND:20160728T014900
SUMMARY:Netauktion objekt 2693-020 Auktionspåminnelse
DESCRIPTION:Länk till objektet du var intresserad av: https://staging.netauktion.se/auktion/produkt/basso-spikpistol-9
END:VEVENT
END:VCALENDAR
