BEGIN:VCALENDAR
VERSION:2.0
PRODID:-//NetAuktion//NONSGML NetAuktion//SV
METHOD:PUBLISH
BEGIN:VEVENT
UID:20260421T104400-1776158174-netauktion.se
DTSTAMP:20260421T104400
DTSTART:20160728T010000
DTEND:20160728T010300
SUMMARY:Netauktion objekt 2693-037 Auktionspåminnelse
DESCRIPTION:Länk till objektet du var intresserad av: https://staging.netauktion.se/auktion/produkt/hitachi-lovblas
END:VEVENT
END:VCALENDAR
