BEGIN:VCALENDAR
VERSION:2.0
PRODID:-//NetAuktion//NONSGML NetAuktion//SV
METHOD:PUBLISH
BEGIN:VEVENT
UID:20260421T103033-2121228815-netauktion.se
DTSTAMP:20260421T103033
DTSTART:20160728T011200
DTEND:20160728T011500
SUMMARY:Netauktion objekt 2693-046 Auktionspåminnelse
DESCRIPTION:Länk till objektet du var intresserad av: https://staging.netauktion.se/auktion/produkt/hitachi-motorsag-1-2
END:VEVENT
END:VCALENDAR
