BEGIN:VCALENDAR
VERSION:2.0
PRODID:-//NetAuktion//NONSGML NetAuktion//SV
METHOD:PUBLISH
BEGIN:VEVENT
UID:20260421T104353-1517411161-netauktion.se
DTSTAMP:20260421T104353
DTSTART:20160728T024300
DTEND:20160728T024600
SUMMARY:Netauktion objekt 2689-002 Auktionspåminnelse
DESCRIPTION:Länk till objektet du var intresserad av: https://staging.netauktion.se/auktion/produkt/minibarkylskap-dometic-23-liter
END:VEVENT
END:VCALENDAR
