BEGIN:VCALENDAR
VERSION:2.0
PRODID:-//NetAuktion//NONSGML NetAuktion//SV
METHOD:PUBLISH
BEGIN:VEVENT
UID:20260421T104433-1802509018-netauktion.se
DTSTAMP:20260421T104433
DTSTART:20160728T023800
DTEND:20160728T024100
SUMMARY:Netauktion objekt 2689-003 Auktionspåminnelse
DESCRIPTION:Länk till objektet du var intresserad av: https://staging.netauktion.se/auktion/produkt/minibarkylskap-dometic-23-liter-2
END:VEVENT
END:VCALENDAR
