BEGIN:VCALENDAR
VERSION:2.0
PRODID:-//NetAuktion//NONSGML NetAuktion//SV
METHOD:PUBLISH
BEGIN:VEVENT
UID:20260421T104354-1195844083-netauktion.se
DTSTAMP:20260421T104354
DTSTART:20160728T023400
DTEND:20160728T023700
SUMMARY:Netauktion objekt 2689-004 Auktionspåminnelse
DESCRIPTION:Länk till objektet du var intresserad av: https://staging.netauktion.se/auktion/produkt/minibarkylskap-dometic-23-liter-3
END:VEVENT
END:VCALENDAR
