BEGIN:VCALENDAR
VERSION:2.0
PRODID:-//NetAuktion//NONSGML NetAuktion//SV
METHOD:PUBLISH
BEGIN:VEVENT
UID:20260421T102853-1768862900-netauktion.se
DTSTAMP:20260421T102853
DTSTART:20160728T023000
DTEND:20160728T023300
SUMMARY:Netauktion objekt 2689-005 Auktionspåminnelse
DESCRIPTION:Länk till objektet du var intresserad av: https://staging.netauktion.se/auktion/produkt/minibarkylskap-dometic-23-liter-4
END:VEVENT
END:VCALENDAR
