BEGIN:VCALENDAR
VERSION:2.0
PRODID:-//NetAuktion//NONSGML NetAuktion//SV
METHOD:PUBLISH
BEGIN:VEVENT
UID:20260421T103238-973006725-netauktion.se
DTSTAMP:20260421T103238
DTSTART:20160728T024600
DTEND:20160728T024900
SUMMARY:Netauktion objekt 2689-006 Auktionspåminnelse
DESCRIPTION:Länk till objektet du var intresserad av: https://staging.netauktion.se/auktion/produkt/minibarkylskap-dometic-23-liter-5
END:VEVENT
END:VCALENDAR
