BEGIN:VCALENDAR
VERSION:2.0
PRODID:-//NetAuktion//NONSGML NetAuktion//SV
METHOD:PUBLISH
BEGIN:VEVENT
UID:20260421T104458-1118503505-netauktion.se
DTSTAMP:20260421T104458
DTSTART:20160728T023600
DTEND:20160728T023900
SUMMARY:Netauktion objekt 2689-008 Auktionspåminnelse
DESCRIPTION:Länk till objektet du var intresserad av: https://staging.netauktion.se/auktion/produkt/minibarkylskap-dometic-23-liter-7
END:VEVENT
END:VCALENDAR
