BEGIN:VCALENDAR
VERSION:2.0
PRODID:-//NetAuktion//NONSGML NetAuktion//SV
METHOD:PUBLISH
BEGIN:VEVENT
UID:20260421T102802-1687185798-netauktion.se
DTSTAMP:20260421T102802
DTSTART:20160728T023200
DTEND:20160728T023500
SUMMARY:Netauktion objekt 2689-009 Auktionspåminnelse
DESCRIPTION:Länk till objektet du var intresserad av: https://staging.netauktion.se/auktion/produkt/minibarkylskap-dometic-23-liter-8
END:VEVENT
END:VCALENDAR
