BEGIN:VCALENDAR
VERSION:2.0
PRODID:-//NetAuktion//NONSGML NetAuktion//SV
METHOD:PUBLISH
BEGIN:VEVENT
UID:20260421T104630-1217966380-netauktion.se
DTSTAMP:20260421T104630
DTSTART:20160728T024200
DTEND:20160728T024500
SUMMARY:Netauktion objekt 2689-016 Auktionspåminnelse
DESCRIPTION:Länk till objektet du var intresserad av: https://staging.netauktion.se/auktion/produkt/minibarkylskap-dometic-23-liter-15
END:VEVENT
END:VCALENDAR
