BEGIN:VCALENDAR
VERSION:2.0
PRODID:-//NetAuktion//NONSGML NetAuktion//SV
METHOD:PUBLISH
BEGIN:VEVENT
UID:20260421T104630-1044503069-netauktion.se
DTSTAMP:20260421T104630
DTSTART:20160728T024900
DTEND:20160728T025200
SUMMARY:Netauktion objekt 2689-022 Auktionspåminnelse
DESCRIPTION:Länk till objektet du var intresserad av: https://staging.netauktion.se/auktion/produkt/2st-minibarerkylskap-dometic-23-liter-3
END:VEVENT
END:VCALENDAR
