BEGIN:VCALENDAR
VERSION:2.0
PRODID:-//NetAuktion//NONSGML NetAuktion//SV
METHOD:PUBLISH
BEGIN:VEVENT
UID:20260421T103236-679704973-netauktion.se
DTSTAMP:20260421T103236
DTSTART:20160728T024500
DTEND:20160728T024800
SUMMARY:Netauktion objekt 2689-023 Auktionspåminnelse
DESCRIPTION:Länk till objektet du var intresserad av: https://staging.netauktion.se/auktion/produkt/2st-minibarerkylskap-dometic-23-liter-4
END:VEVENT
END:VCALENDAR
