BEGIN:VCALENDAR
VERSION:2.0
PRODID:-//NetAuktion//NONSGML NetAuktion//SV
METHOD:PUBLISH
BEGIN:VEVENT
UID:20260421T104632-289663250-netauktion.se
DTSTAMP:20260421T104632
DTSTART:20160728T024000
DTEND:20160728T024300
SUMMARY:Netauktion objekt 2689-024 Auktionspåminnelse
DESCRIPTION:Länk till objektet du var intresserad av: https://staging.netauktion.se/auktion/produkt/2st-minibarerkylskap-dometic-23-liter-5
END:VEVENT
END:VCALENDAR
