BEGIN:VCALENDAR
VERSION:2.0
PRODID:-//NetAuktion//NONSGML NetAuktion//SV
METHOD:PUBLISH
BEGIN:VEVENT
UID:20260421T103127-1649990831-netauktion.se
DTSTAMP:20260421T103127
DTSTART:20160927T012700
DTEND:20160927T013000
SUMMARY:Netauktion objekt 2706-016 Auktionspåminnelse
DESCRIPTION:Länk till objektet du var intresserad av: https://staging.netauktion.se/auktion/produkt/rullbana-rf
END:VEVENT
END:VCALENDAR
