BEGIN:VCALENDAR
VERSION:2.0
PRODID:-//NetAuktion//NONSGML NetAuktion//SV
METHOD:PUBLISH
BEGIN:VEVENT
UID:20260421T104627-1102437422-netauktion.se
DTSTAMP:20260421T104627
DTSTART:20160923T024800
DTEND:20160923T025100
SUMMARY:Netauktion objekt 2424-038 Auktionspåminnelse
DESCRIPTION:Länk till objektet du var intresserad av: https://staging.netauktion.se/auktion/produkt/2st-compaq-ups
END:VEVENT
END:VCALENDAR
