BEGIN:VCALENDAR
VERSION:2.0
PRODID:-//NetAuktion//NONSGML NetAuktion//SV
METHOD:PUBLISH
BEGIN:VEVENT
UID:20260421T104428-2090435372-netauktion.se
DTSTAMP:20260421T104428
DTSTART:20080829T015000
DTEND:20080829T015300
SUMMARY:Netauktion objekt 0079-025 Auktionspåminnelse
DESCRIPTION:Länk till objektet du var intresserad av: https://staging.netauktion.se/auktion/produkt/4-antika-stolar-med-lejontassar
END:VEVENT
END:VCALENDAR
