BEGIN:VCALENDAR
VERSION:2.0
PRODID:-//NetAuktion//NONSGML NetAuktion//SV
METHOD:PUBLISH
BEGIN:VEVENT
UID:20260421T103129-1157414016-netauktion.se
DTSTAMP:20260421T103129
DTSTART:20090831T030800
DTEND:20090831T031100
SUMMARY:Netauktion objekt 0241-231 Auktionspåminnelse
DESCRIPTION:Länk till objektet du var intresserad av: https://staging.netauktion.se/auktion/produkt/nya-skinnjackor-strl-40-varde-5000-kr-2
END:VEVENT
END:VCALENDAR
