BEGIN:VCALENDAR
VERSION:2.0
PRODID:-//NetAuktion//NONSGML NetAuktion//SV
METHOD:PUBLISH
BEGIN:VEVENT
UID:20260421T103137-1747035036-netauktion.se
DTSTAMP:20260421T103137
DTSTART:20090831T031200
DTEND:20090831T031500
SUMMARY:Netauktion objekt 0241-236 Auktionspåminnelse
DESCRIPTION:Länk till objektet du var intresserad av: https://staging.netauktion.se/auktion/produkt/nya-skinnjackor-strl-34-varde-5000-kr-5
END:VEVENT
END:VCALENDAR
