BEGIN:VCALENDAR
VERSION:2.0
PRODID:-//NetAuktion//NONSGML NetAuktion//SV
METHOD:PUBLISH
BEGIN:VEVENT
UID:20260421T103135-824671706-netauktion.se
DTSTAMP:20260421T103135
DTSTART:20090831T031400
DTEND:20090831T031700
SUMMARY:Netauktion objekt 0241-242 Auktionspåminnelse
DESCRIPTION:Länk till objektet du var intresserad av: https://staging.netauktion.se/auktion/produkt/nya-skinnjackor-strl-36-varde-5000-kr-2
END:VEVENT
END:VCALENDAR
