BEGIN:VCALENDAR
VERSION:2.0
PRODID:-//NetAuktion//NONSGML NetAuktion//SV
METHOD:PUBLISH
BEGIN:VEVENT
UID:20260421T104623-769545078-netauktion.se
DTSTAMP:20260421T104623
DTSTART:20161027T022400
DTEND:20161027T022700
SUMMARY:Netauktion objekt 2713-019 Auktionspåminnelse
DESCRIPTION:Länk till objektet du var intresserad av: https://staging.netauktion.se/auktion/produkt/irwin-borr-sagklinga-mm-29-delar-19
END:VEVENT
END:VCALENDAR
