BEGIN:VCALENDAR
VERSION:2.0
PRODID:-//NetAuktion//NONSGML NetAuktion//SV
METHOD:PUBLISH
BEGIN:VEVENT
UID:20260421T104622-793335130-netauktion.se
DTSTAMP:20260421T104622
DTSTART:20161027T022500
DTEND:20161027T022800
SUMMARY:Netauktion objekt 2713-021 Auktionspåminnelse
DESCRIPTION:Länk till objektet du var intresserad av: https://staging.netauktion.se/auktion/produkt/irwin-borr-sagklinga-mm-29-delar-21
END:VEVENT
END:VCALENDAR
