BEGIN:VCALENDAR
VERSION:2.0
PRODID:-//NetAuktion//NONSGML NetAuktion//SV
METHOD:PUBLISH
BEGIN:VEVENT
UID:20260421T103137-945177387-netauktion.se
DTSTAMP:20260421T103137
DTSTART:20170531T031200
DTEND:20170531T031500
SUMMARY:Netauktion objekt 2697-022 Auktionspåminnelse
DESCRIPTION:Länk till objektet du var intresserad av: https://staging.netauktion.se/auktion/produkt/e-wheeler-med-slap-renoveringsobjekt-2
END:VEVENT
END:VCALENDAR
