BEGIN:VCALENDAR
VERSION:2.0
PRODID:-//NetAuktion//NONSGML NetAuktion//SV
METHOD:PUBLISH
BEGIN:VEVENT
UID:20260421T104454-1080445422-netauktion.se
DTSTAMP:20260421T104454
DTSTART:20090831T032400
DTEND:20090831T032700
SUMMARY:Netauktion objekt 0241-259 Auktionspåminnelse
DESCRIPTION:Länk till objektet du var intresserad av: https://staging.netauktion.se/auktion/produkt/nya-skinnjackor-strl-40-varde-5000-kr-5
END:VEVENT
END:VCALENDAR
