BEGIN:VCALENDAR
VERSION:2.0
PRODID:-//NetAuktion//NONSGML NetAuktion//SV
METHOD:PUBLISH
BEGIN:VEVENT
UID:20260425T123500-795953743-netauktion.se
DTSTAMP:20260425T123500
DTSTART:20160923T012400
DTEND:20160923T012700
SUMMARY:Netauktion objekt 2610-005 Auktionspåminnelse
DESCRIPTION:Länk till objektet du var intresserad av: https://staging.netauktion.se/auktion/produkt/diverse-badrumsartiklar-wenko-3
END:VEVENT
END:VCALENDAR
